BEGIN:VCALENDAR
VERSION:2.0
PRODID:-//tinmountain.org//NONSGML kigkonsult.se iCalcreator 2.30.10//
CALSCALE:GREGORIAN
METHOD:PUBLISH
UID:ef9c8e57-30d8-4a43-a57a-49ef8ac768e3
X-WR-CALDESC:Join Tin Mountain's Outreach Coordinator\, Heather McKendry\, 
 for a slow-paced exploration of Tin Mountain's beautiful property. Whether
  we visit Chase Pond\, the 1800's granite quarry or 14 acre Mountain Laure
 l Loop - our Albany trails offer spectacular year-round wandering for all 
 ages.  \n\nNon-Members: $15 per person/$25 per household\nMembers are $5 p
 er household\, so consider a membership!\n\nPre-registration welcomed\, bu
 t not required.
X-WR-RELCALID:6cc17f7fe0f6c4bf37d9d5c1d241a2c4
X-WR-TIMEZONE:America/New_York
BEGIN:VTIMEZONE
TZID:America/New_York
BEGIN:STANDARD
TZNAME:EST
DTSTART:20251102T020000
TZOFFSETFROM:-0400
TZOFFSETTO:-0500
RDATE:20261101T020000
END:STANDARD
BEGIN:DAYLIGHT
TZNAME:EDT
DTSTART:20260308T020000
TZOFFSETFROM:-0500
TZOFFSETTO:-0400
RDATE:20270314T020000
END:DAYLIGHT
END:VTIMEZONE
BEGIN:VEVENT
UID:7b0274d3-4785-46fa-a8a7-be730c73d50b
DTSTAMP:20260423T005000Z
DESCRIPTION:Join Tin Mountain's Outreach Coordinator\, Heather McKendry\, f
 or a slow-paced exploration of Tin Mountain's beautiful property. Whether 
 we visit Chase Pond\, the 1800's granite quarry or 14 acre Mountain Laurel
  Loop - our Albany trails offer spectacular year-round wandering for all a
 ges.  \n\nNon-Members: $15 per person/$25 per household\nMembers are $5 pe
 r household\, so consider a membership!\n\nPre-registration welcomed\, but
  not required.
DTSTART;TZID=America/New_York:20260425T100000
DTEND;TZID=America/New_York:20260425T113000
LOCATION:1245 Bald Hill Road\, Albany\, NH 03818 US
SUMMARY:Spring Stroll
END:VEVENT
END:VCALENDAR
