BEGIN:VCALENDAR
VERSION:2.0
PRODID:-//tinmountain.org//NONSGML kigkonsult.se iCalcreator 2.30.10//
CALSCALE:GREGORIAN
METHOD:PUBLISH
UID:8badf70e-73b3-4645-937f-7376174963fd
X-WR-CALDESC:It’s been a while! Time to dust off your thinking cap and exer
 cise your mental muscles with us during some environmental trivia! Come wi
 th a team of friends\, or join one when you arrive. $5/per person donation
 .
X-WR-RELCALID:db2b8382043294de05016d47a10d4ec9
X-WR-TIMEZONE:America/New_York
BEGIN:VTIMEZONE
TZID:America/New_York
BEGIN:STANDARD
TZNAME:EST
DTSTART:20251102T020000
TZOFFSETFROM:-0400
TZOFFSETTO:-0500
RDATE:20261101T020000
RDATE:20271107T020000
END:STANDARD
BEGIN:DAYLIGHT
TZNAME:EDT
DTSTART:20260308T020000
TZOFFSETFROM:-0500
TZOFFSETTO:-0400
RDATE:20270314T020000
END:DAYLIGHT
END:VTIMEZONE
BEGIN:VEVENT
UID:d97786fb-bf0a-4c98-a881-650e07279750
DTSTAMP:20260423T005144Z
DESCRIPTION:It’s been a while! Time to dust off your thinking cap and exerc
 ise your mental muscles with us during some environmental trivia! Come wit
 h a team of friends\, or join one when you arrive. $5/per person donation.
DTSTART;TZID=America/New_York:20260508T173000
DTEND;TZID=America/New_York:20260508T200000
LOCATION:Ledge Brewing\, 15 Town Hall Road\, Intervale\, NH 03845 US
SUMMARY:Environmental Trivia
END:VEVENT
END:VCALENDAR
