BEGIN:VCALENDAR
VERSION:2.0
PRODID:-//tinmountain.org//NONSGML kigkonsult.se iCalcreator 2.30.10//
CALSCALE:GREGORIAN
METHOD:PUBLISH
UID:ea1cdfad-c5b2-4b65-ab1c-98c25c8adfc1
X-WR-CALDESC:Join birders of all levels on this weekly bird walk through th
 e Brownfield Bog and view the rich diversity of bird life that makes its w
 ay north to rest or nest. Bring binoculars (or borrow ours)\, rubber boots
 \, and a snack.
X-WR-RELCALID:3902bc63799d254eb0f98cbdf9bc2673
X-WR-TIMEZONE:America/New_York
BEGIN:VTIMEZONE
TZID:America/New_York
BEGIN:STANDARD
TZNAME:EST
DTSTART:20251102T020000
TZOFFSETFROM:-0400
TZOFFSETTO:-0500
RDATE:20261101T020000
END:STANDARD
BEGIN:DAYLIGHT
TZNAME:EDT
DTSTART:20260308T020000
TZOFFSETFROM:-0500
TZOFFSETTO:-0400
RDATE:20270314T020000
END:DAYLIGHT
END:VTIMEZONE
BEGIN:VEVENT
UID:59dac379-d53a-46cb-a5a3-7e0baa698a74
DTSTAMP:20260420T023112Z
DESCRIPTION:Join birders of all levels on this weekly bird walk through the
  Brownfield Bog and view the rich diversity of bird life that makes its wa
 y north to rest or nest. Bring binoculars (or borrow ours)\, rubber boots\
 , and a snack.
DTSTART;TZID=America/New_York:20260502T070000
DTEND;TZID=America/New_York:20260502T100000
LOCATION:628 Pequawket Trail\, Brownfield\, ME 04010 US
SUMMARY:Birding in the Bog
END:VEVENT
END:VCALENDAR
