BEGIN:VCALENDAR
VERSION:2.0
PRODID:-//tinmountain.org//NONSGML kigkonsult.se iCalcreator 2.30.10//
CALSCALE:GREGORIAN
METHOD:PUBLISH
UID:c6aa5598-f727-432b-90c0-49b4a7b5b263
X-WR-CALDESC:Join birders of all levels on this weekly bird walk through th
 e Brownfield Bog and view the rich diversity of bird life that makes its w
 ay north to rest or nest. Bring binoculars (or borrow ours)\, rubber boots
 \, and a snack.
X-WR-RELCALID:2968ca28ce8251dd7e515d05132746c4
X-WR-TIMEZONE:America/New_York
BEGIN:VTIMEZONE
TZID:America/New_York
BEGIN:STANDARD
TZNAME:EST
DTSTART:20251102T020000
TZOFFSETFROM:-0400
TZOFFSETTO:-0500
RDATE:20261101T020000
RDATE:20271107T020000
END:STANDARD
BEGIN:DAYLIGHT
TZNAME:EDT
DTSTART:20260308T020000
TZOFFSETFROM:-0500
TZOFFSETTO:-0400
RDATE:20270314T020000
END:DAYLIGHT
END:VTIMEZONE
BEGIN:VEVENT
UID:d3c6aca9-483c-4f59-88fb-392802cf7ac2
DTSTAMP:20260420T022714Z
DESCRIPTION:Join birders of all levels on this weekly bird walk through the
  Brownfield Bog and view the rich diversity of bird life that makes its wa
 y north to rest or nest. Bring binoculars (or borrow ours)\, rubber boots\
 , and a snack.
DTSTART;TZID=America/New_York:20260509T070000
DTEND;TZID=America/New_York:20260509T100000
LOCATION:628 Pequawket Trail\, Brownfield\, ME 04010 US
SUMMARY:Birding in the Bog
END:VEVENT
END:VCALENDAR
