BEGIN:VCALENDAR
VERSION:2.0
PRODID:-//tinmountain.org//NONSGML kigkonsult.se iCalcreator 2.30.10//
CALSCALE:GREGORIAN
METHOD:PUBLISH
UID:966c6577-1b69-444a-a65e-e38b96723dbd
X-WR-CALDESC:THIS PROGRAM IS CURRENTLY FULL. WE APOLOGIZE FOR THE INCONVENI
 ENCE. \n\nJoin us for a spring exploration of the geology of the Ossipee M
 ountains\, a world famous example of a ring dike. The exploration will sho
 wcase ancient lava flows such as basalt columns and look at the different 
 types of bedrock that are concentrically layered within the Ossipee ring d
 ike. The planned hike is 4.5 miles RT\; most of the hiking will be on grad
 ed carriage roads but there is some elevation gain\, so please wear sturdy
  footwear. Participants should also bring plenty of water\, snacks and a l
 unch.
X-WR-RELCALID:53a4b893b0b55f4d41194c6e4760ec7c
X-WR-TIMEZONE:America/New_York
BEGIN:VTIMEZONE
TZID:America/New_York
BEGIN:STANDARD
TZNAME:EST
DTSTART:20251102T020000
TZOFFSETFROM:-0400
TZOFFSETTO:-0500
RDATE:20261101T020000
END:STANDARD
BEGIN:DAYLIGHT
TZNAME:EDT
DTSTART:20260308T020000
TZOFFSETFROM:-0500
TZOFFSETTO:-0400
RDATE:20270314T020000
END:DAYLIGHT
END:VTIMEZONE
BEGIN:VEVENT
UID:eba39f76-f6eb-4cff-880e-4b0a0287baad
DTSTAMP:20260420T185341Z
DESCRIPTION:THIS PROGRAM IS CURRENTLY FULL. WE APOLOGIZE FOR THE INCONVENIE
 NCE. \n\nJoin us for a spring exploration of the geology of the Ossipee Mo
 untains\, a world famous example of a ring dike. The exploration will show
 case ancient lava flows such as basalt columns and look at the different t
 ypes of bedrock that are concentrically layered within the Ossipee ring di
 ke. The planned hike is 4.5 miles RT\; most of the hiking will be on grade
 d carriage roads but there is some elevation gain\, so please wear sturdy 
 footwear. Participants should also bring plenty of water\, snacks and a lu
 nch.
DTSTART;TZID=America/New_York:20260425T090000
DTEND;TZID=America/New_York:20260425T130000
LOCATION:Castle in the Clouds Ossipee Road Parking Lot\,\, Moultonborough\,
  NH 03254 US
SUMMARY:PROGRAM FULL: Geology of the Ossipee Mountains Field Exploration
END:VEVENT
END:VCALENDAR
